Workbook
Name ferramentas: Ferramentas!$A$2:$B$16
Name funcionarios: Funcionarios!$B$2:$B$7
Name lista: 'Painel Operacao'!$C$6

Sheet Painel Operacao
B2: RETOOLS — CONTROLE SIMPLES DE FERRAMENTAS
B3: Versão Gratuita em Planilha • Limite: 5 Colaboradores & 15 Ferramentas • Apenas 2 Status: Disponível e Em Uso
B4: 📋 FERRAMENTAS ATUALMENTE EM USO NO MOMENTO | D4: Para entrega selecionar o nome do funcionário na coluna Funcionário, e para liberar o funcionário deve ser Disponível
B5: Ferramenta em Uso | C5: Funcionário | D5: Status | E5: Ferramenta em Uso | F5: Funcionário | G5: Status
B6: =Ferramentas!B2 -> Chave Boca 13mm | C6: Retools Teste | D6: =IF(C6="Disponível","Livre","Uso") -> Uso | E6: =Ferramentas!B9 -> Ferramenta 08 | F6: Disponível | G6: =IF(F6="Disponível","Livre","Uso") -> Livre
B7: =Ferramentas!B3 -> Ferramenta 02 | C7: Disponível | D7: =IF(C7="Disponível","Livre","Uso") -> Livre | E7: =Ferramentas!B10 -> Ferramenta 09 | F7: Disponível | G7: =IF(F7="Disponível","Livre","Uso") -> Livre
B8: =Ferramentas!B4 -> Ferramenta 03 | C8: Disponível | D8: =IF(C8="Disponível","Livre","Uso") -> Livre | E8: =Ferramentas!B11 -> Ferramenta 10 | F8: Disponível | G8: =IF(F8="Disponível","Livre","Uso") -> Livre
B9: =Ferramentas!B5 -> Ferramenta 04 | C9: Disponível | D9: =IF(C9="Disponível","Livre","Uso") -> Livre | E9: =Ferramentas!B12 -> Ferramenta 11 | F9: Disponível | G9: =IF(F9="Disponível","Livre","Uso") -> Livre
B10: =Ferramentas!B6 -> Ferramenta 05 | C10: Disponível | D10: =IF(C10="Disponível","Livre","Uso") -> Livre | E10: =Ferramentas!B13 -> Ferramenta 12 | F10: Disponível | G10: =IF(F10="Disponível","Livre","Uso") -> Livre
B11: =Ferramentas!B7 -> Ferramenta 06 | C11: Disponível | D11: =IF(C11="Disponível","Livre","Uso") -> Livre | E11: =Ferramentas!B14 -> Ferramenta 13 | F11: Disponível | G11: =IF(F11="Disponível","Livre","Uso") -> Livre
B12: =Ferramentas!B8 -> Ferramenta 07 | C12: Disponível | D12: =IF(C12="Disponível","Livre","Uso") -> Livre | E12: =Ferramentas!B15 -> Ferramenta 14 | F12: Disponível | G12: =IF(F12="Disponível","Livre","Uso") -> Livre
B14: 🛑 LIMITE DE 50 FERRAMENTAS ATINGIDO (VERSÃO GRATUITA) • Para inventário ilimitado com QR Code, acesse app.retools.com.br

Sheet Como Usar
N7: Mudar o nome para o nome dos Funcionários Desejados no lugar de "Funcionário 01"
N29: Mudar o nome para o nome dos Funcionários Desejados no lugar de "Funcionário 01"

Sheet Ferramentas
A1: CÓDIGO | B1: NOME DA FERRAMENTA
A2: FER-001 | B2: Chave Boca 13mm
A3: FER-002 | B3: Ferramenta 02
A4: FER-003 | B4: Ferramenta 03
A5: FER-004 | B5: Ferramenta 04
A6: FER-005 | B6: Ferramenta 05
A7: FER-006 | B7: Ferramenta 06
A8: FER-007 | B8: Ferramenta 07
A9: FER-008 | B9: Ferramenta 08
A10: FER-009 | B10: Ferramenta 09
A11: FER-010 | B11: Ferramenta 10
A12: FER-011 | B12: Ferramenta 11
... A16: FER-015 | B16: Ferramenta 15
A17: 🛑 LIMITE DE 50 FERRAMENTAS ATINGIDO (VERSÃO GRATUITA) • Para inventário ilimitado com QR Code, acesse app.retools.com.br

Sheet Funcionarios
A1: ID | B1: NOME COMPLETO
A2: FUNC-01 | B2: Retools Teste
A3: FUNC-02 | B3: Funcionário 02
A4: FUNC-03 | B4: Funcionário 03
A5: FUNC-04 | B5: Funcionário 04
A6: FUNC-05 | B6: Funcionário 05
A7: LIVRE | B7: Disponível
A8: 🛑 LIMITE MÁXIMO DE 5 FUNCIONÁRIOS ATINGIDO (VERSÃO GRATUITA) • Precisa gerenciar mais colaboradores? Acesse app.retools.com.br

Sheet ReTools Online
A1: 🚀 POR QUE MIGRAR DA PLANILHA PARA O RETOOLS ONLINE?
A2: Recurso / Funcionalidade | B2: Planilha Excel Gratuita | C2: ReTools Online (retools.com.br)
A3: Limite de Funcionários | B3: Apenas 5 colaboradores | C3: ✅ ILIMITADO no Plano Pro / Empresa
A4: Limite de Ferramentas | B4: Apenas 15 ferramentas | C4: ✅ ILIMITADO no Plano Pro / Empresa* (Limite de Acordo com o Plano Escolhido)
A5: Controle de EPIs (Norma NR-6) | B5: ❌ NÃO DISPONÍVEL (Exclusivo Online) | C5: ✅ Ficha digital com biometria facial e assinatura
A6: Termo de Responsabilidade | B6: ❌ Papel físico manual sujeito a perda | C6: ✅ Comprovante digital com validade jurídica
A7: Velocidade de Retirada | B7: Digitação manual no computador | C7: ⚡ 3 segundos com leitura de QR Code no celular
A8: Notificação de Atraso | B8: ❌ NÃO DISPONÍVEL (Exclusivo Online) | C8: 🔔 Aviso no Dashboard do Sistema
A9: Acesso no Celular (Mobile) | B9: ❌ NÃO DISPONÍVEL (Exclusivo Online) | C9: 📱 Aplicativo PWA rápido para qualquer celular
A10: Relatórios Diários Automáticos | B10: ❌ NÃO DISPONÍVEL (Exclusivo Online) | C10: ✉️ Disparo automático diário às 8h no seu e-mail
A12: 🎁 EXPERIMENTE O RETOOLS ONLINE GRÁTIS POR 15 DIAS • Acesse: https://app.retools.com.br/register
